BEGIN:VCALENDAR
VERSION:2.0
BEGIN:VEVENT
DTSTART:20260609T140000Z
DTEND:20260609T150000Z
SUMMARY:Zorba's Last Dance
DESCRIPTION:When the real Zorba confronts his creator, truth and fiction co
	llide in a powerful story of memory, identity and legacy.
LOCATION:Greek Centre
URL:https://www.greekcommunity.com.au/events/zorbas-last-dance
END:VEVENT
END:VCALENDAR